BEGIN:VCALENDAR
VERSION:2.0
PRODID:jazz-concerts.com
METHOD:PUBLISH
SEQUENCE:1776614048
BEGIN:VEVENT
UID:jazz-concerts.com-1-43006
DTSTAMP:20260419T175408
DTSTART:20260506T163000
DTEND:20260506T183000
SUMMARY:The Hot Sardines
LOCATION:Blue Note Tokyo 107-0062 Minato City\, Japan
DESCRIPTION:tickets: https://jazz-concerts.com/en/event/43006\n\nThe Hot Sardines\n\n
END:VEVENT
END:VCALENDAR
