BEGIN:VCALENDAR
VERSION:2.0
PRODID:jazz-concerts.com
METHOD:PUBLISH
SEQUENCE:1776602713
BEGIN:VEVENT
UID:jazz-concerts.com-1-42992
DTSTAMP:20260419T144513
DTSTART:20260425T163000
DTEND:20260425T183000
SUMMARY:Michel Camilo Trio
LOCATION:Blue Note Tokyo 107-0062 Minato City\, Japan
DESCRIPTION:tickets: https://jazz-concerts.com/en/event/42992\n\nMichel Camilo Trio\n\n
END:VEVENT
END:VCALENDAR
