BEGIN:VCALENDAR
VERSION:2.0
PRODID:jazz-concerts.com
METHOD:PUBLISH
SEQUENCE:1776605210
BEGIN:VEVENT
UID:jazz-concerts.com-1-42990
DTSTAMP:20260419T152650
DTSTART:20260428T180000
DTEND:20260428T200000
SUMMARY:Michel Camilo Trio
LOCATION:Blue Note Tokyo 107-0062 Minato City\, Japan
DESCRIPTION:tickets: https://jazz-concerts.com/en/event/42990\n\nMichel Camilo Trio\n\n
END:VEVENT
END:VCALENDAR
