BEGIN:VCALENDAR
VERSION:2.0
PRODID:jazz-concerts.com
METHOD:PUBLISH
SEQUENCE:1776618446
BEGIN:VEVENT
UID:jazz-concerts.com-1-42988
DTSTAMP:20260419T190726
DTSTART:20260427T180000
DTEND:20260427T200000
SUMMARY:Michel Camilo Trio
LOCATION:Blue Note Tokyo 107-0062 Minato City\, Japan
DESCRIPTION:tickets: https://jazz-concerts.com/en/event/42988\n\nMichel Camilo Trio\n\n
END:VEVENT
END:VCALENDAR
