BEGIN:VCALENDAR
VERSION:2.0
PRODID:jazz-concerts.com
METHOD:PUBLISH
SEQUENCE:1776635533
BEGIN:VEVENT
UID:jazz-concerts.com-1-42948
DTSTAMP:20260419T235213
DTSTART:20260425T193000
DTEND:20260425T213000
SUMMARY:Makaya McCraven
LOCATION:Jimmy's Jazz & Blues Club Congress Street 135\, 03801 Portsmouth\, United States
DESCRIPTION:tickets: https://jazz-concerts.com/en/event/42948\n\nMakaya McCraven\n\n
END:VEVENT
END:VCALENDAR
