BEGIN:VCALENDAR
VERSION:2.0
PRODID:jazz-concerts.com
METHOD:PUBLISH
SEQUENCE:1777133152
BEGIN:VEVENT
UID:jazz-concerts.com-1-42878
DTSTAMP:20260425T180552
DTSTART:20261127T200000
DTEND:20261127T220000
SUMMARY:Dixielandkonzert
LOCATION:Reformierte Kirche Trüllikon Trüllikon\, Switzerland
DESCRIPTION:tickets: https://jazz-concerts.com/en/event/42878\n\nDixielandkonzert\n\n
END:VEVENT
END:VCALENDAR
