BEGIN:VCALENDAR
VERSION:2.0
PRODID:jazz-concerts.com
METHOD:PUBLISH
SEQUENCE:1777164806
BEGIN:VEVENT
UID:jazz-concerts.com-1-42826
DTSTAMP:20260426T025326
DTSTART:20260507T213000
DTEND:20260507T233000
SUMMARY:Alessandra Diodati Solo
LOCATION:The Bird's Eye Jazz Club Kohlenberg 20\, 4051 Basel\, Switzerland
DESCRIPTION:tickets: https://jazz-concerts.com/en/event/42826\n\nAlessandra Diodati Solo\n\n
END:VEVENT
END:VCALENDAR
