BEGIN:VCALENDAR
VERSION:2.0
PRODID:jazz-concerts.com
METHOD:PUBLISH
SEQUENCE:1776614043
BEGIN:VEVENT
UID:jazz-concerts.com-1-42651
DTSTAMP:20260419T175403
DTSTART:20260418T220000
DTEND:20260419T000000
SUMMARY:Manon Mullener Trio
LOCATION:Jazzazza Jazz Club Calle Ramon y Cajal 4\, 30157 Algezares\, Spain
DESCRIPTION:tickets: https://jazz-concerts.com/en/event/42651\n\nManon Mullener Trio\n\n
END:VEVENT
END:VCALENDAR
