BEGIN:VCALENDAR
VERSION:2.0
PRODID:jazz-concerts.com
METHOD:PUBLISH
SEQUENCE:1776776496
BEGIN:VEVENT
UID:jazz-concerts.com-1-42606
DTSTAMP:20260421T150136
DTSTART:20260628T000000
DTEND:20260628T020000
SUMMARY:Meute
LOCATION:Château de Fontainebleau 77300 Fontainebleau\, France
DESCRIPTION:tickets: https://jazz-concerts.com/en/event/42606\n\nMeute\n\n
END:VEVENT
END:VCALENDAR
