BEGIN:VCALENDAR
VERSION:2.0
PRODID:jazz-concerts.com
METHOD:PUBLISH
SEQUENCE:1776642583
BEGIN:VEVENT
UID:jazz-concerts.com-1-42571
DTSTAMP:20260420T014943
DTSTART:20270130T200000
DTEND:20270130T220000
SUMMARY:Max Raabe & Palast Orchester
LOCATION:Stadthalle Bielefeld Willy-Brandt-Platz 1\, 33602 Bielefeld\, Germany
DESCRIPTION:tickets: https://jazz-concerts.com/en/event/42571\n\nMax Raabe & Palast Orchester\n\n
END:VEVENT
END:VCALENDAR
