BEGIN:VCALENDAR
VERSION:2.0
PRODID:jazz-concerts.com
METHOD:PUBLISH
SEQUENCE:1776651359
BEGIN:VEVENT
UID:jazz-concerts.com-1-42565
DTSTAMP:20260420T041559
DTSTART:20270122T200000
DTEND:20270122T220000
SUMMARY:Max Raabe & Palast Orchester
LOCATION:Sparkassen-Arena Zwickau Bergmannsstraße 1\, 08056 Zwickau\, Germany
DESCRIPTION:tickets: https://jazz-concerts.com/en/event/42565\n\nMax Raabe & Palast Orchester\n\n
END:VEVENT
END:VCALENDAR
