BEGIN:VCALENDAR
VERSION:2.0
PRODID:jazz-concerts.com
METHOD:PUBLISH
SEQUENCE:1776655133
BEGIN:VEVENT
UID:jazz-concerts.com-1-42507
DTSTAMP:20260420T051853
DTSTART:20260603T200000
DTEND:20260603T220000
SUMMARY:Pepe Lienhard Big Band
LOCATION:ENTRA Rapperswil Obere Bahnhofstrasse 58\, 8640 Rapperswil-Jona\, Switzerland
DESCRIPTION:tickets: https://jazz-concerts.com/en/event/42507\n\nPepe Lienhard Big Band\n\n
END:VEVENT
END:VCALENDAR
