BEGIN:VCALENDAR
VERSION:2.0
PRODID:jazz-concerts.com
METHOD:PUBLISH
SEQUENCE:1776614039
BEGIN:VEVENT
UID:jazz-concerts.com-1-42505
DTSTAMP:20260419T175359
DTSTART:20260601T200000
DTEND:20260601T220000
SUMMARY:Pepe Lienhard Big Band
LOCATION:Concert Hall Stadtcasino Basel Konzertgasse 1\, 4051 Basel\, Switzerland
DESCRIPTION:tickets: https://jazz-concerts.com/en/event/42505\n\nPepe Lienhard Big Band\n\n
END:VEVENT
END:VCALENDAR
