BEGIN:VCALENDAR
VERSION:2.0
PRODID:jazz-concerts.com
METHOD:PUBLISH
SEQUENCE:1776642583
BEGIN:VEVENT
UID:jazz-concerts.com-1-42501
DTSTAMP:20260420T014943
DTSTART:20260527T200000
DTEND:20260527T220000
SUMMARY:Pepe Lienhard Big Band
LOCATION:Pentorama Arbonerstrasse 4\, 8580 Amriswil\, Switzerland
DESCRIPTION:tickets: https://jazz-concerts.com/en/event/42501\n\nPepe Lienhard Big Band\n\n
END:VEVENT
END:VCALENDAR
