BEGIN:VCALENDAR
VERSION:2.0
PRODID:jazz-concerts.com
METHOD:PUBLISH
SEQUENCE:1776637046
BEGIN:VEVENT
UID:jazz-concerts.com-1-42465
DTSTAMP:20260420T001726
DTSTART:20260701T200000
DTEND:20260701T220000
SUMMARY:Luca Sestak Trio
LOCATION:Veranstaltungsforum Fürstenfeld Fürstenfeld 12\, 82256 Fürstenfeldbruck\, Germany
DESCRIPTION:tickets: https://jazz-concerts.com/en/event/42465\n\nLuca Sestak Trio\n\n
END:VEVENT
END:VCALENDAR
