BEGIN:VCALENDAR
VERSION:2.0
PRODID:jazz-concerts.com
METHOD:PUBLISH
SEQUENCE:1776617010
BEGIN:VEVENT
UID:jazz-concerts.com-1-42411
DTSTAMP:20260419T184330
DTSTART:20260524T213000
DTEND:20260524T233000
SUMMARY:Martin Sasse Solo
LOCATION:Schloss Elmau In Elmau 2\, 82493 Krün\, Germany
DESCRIPTION:tickets: https://jazz-concerts.com/en/event/42411\n\nMartin Sasse Solo\n\n
END:VEVENT
END:VCALENDAR
