BEGIN:VCALENDAR
VERSION:2.0
PRODID:jazz-concerts.com
METHOD:PUBLISH
SEQUENCE:1776776496
BEGIN:VEVENT
UID:jazz-concerts.com-1-42381
DTSTAMP:20260421T150136
DTSTART:20260502T190000
DTEND:20260502T210000
SUMMARY:Little Miss & The Boom
LOCATION:Scullers Jazz Club Soldiers Field Road 400\, 02134 Boston\, United States
DESCRIPTION:tickets: https://jazz-concerts.com/en/event/42381\n\nLittle Miss & The Boom\n\n
END:VEVENT
END:VCALENDAR
