BEGIN:VCALENDAR
VERSION:2.0
PRODID:jazz-concerts.com
METHOD:PUBLISH
SEQUENCE:1776649730
BEGIN:VEVENT
UID:jazz-concerts.com-1-42348
DTSTAMP:20260420T034850
DTSTART:20271106T200000
DTEND:20271106T220000
SUMMARY:Götz Alsmann
LOCATION:Paderhalle Paderborn Heiersmauer 45\, 33098 Paderborn\, Germany
DESCRIPTION:tickets: https://jazz-concerts.com/en/event/42348\n\nGötz Alsmann\n\n
END:VEVENT
END:VCALENDAR
