BEGIN:VCALENDAR
VERSION:2.0
PRODID:jazz-concerts.com
METHOD:PUBLISH
SEQUENCE:1776618447
BEGIN:VEVENT
UID:jazz-concerts.com-1-42343
DTSTAMP:20260419T190727
DTSTART:20260419T190000
DTEND:20260419T210000
SUMMARY:Götz Alsmann
LOCATION:Staatsschauspiel Dresden Theaterstraße 2\, 01067 Dresden\, Germany
DESCRIPTION:tickets: https://jazz-concerts.com/en/event/42343\n\nGötz Alsmann\n\n
END:VEVENT
END:VCALENDAR
