BEGIN:VCALENDAR
VERSION:2.0
PRODID:jazz-concerts.com
METHOD:PUBLISH
SEQUENCE:1776624828
BEGIN:VEVENT
UID:jazz-concerts.com-1-42328
DTSTAMP:20260419T205348
DTSTART:20260516T200000
DTEND:20260516T220000
SUMMARY:Götz Alsmann
LOCATION:Parktheater im Kurhaus Göggingen Klausenberg 6\, 86199 Augsburg\, Germany
DESCRIPTION:tickets: https://jazz-concerts.com/en/event/42328\n\nGötz Alsmann\n\n
END:VEVENT
END:VCALENDAR
