BEGIN:VCALENDAR
VERSION:2.0
PRODID:jazz-concerts.com
METHOD:PUBLISH
SEQUENCE:1776766673
BEGIN:VEVENT
UID:jazz-concerts.com-1-42216
DTSTAMP:20260421T121753
DTSTART:20260524T193000
DTEND:20260524T213000
SUMMARY:Tamikrest
LOCATION:Fri-Son Route de la Fonderie 13\, 1700 Fribourg\, Switzerland
DESCRIPTION:tickets: https://jazz-concerts.com/en/event/42216\n\nTamikrest\n\n
END:VEVENT
END:VCALENDAR
