BEGIN:VCALENDAR
VERSION:2.0
PRODID:jazz-concerts.com
METHOD:PUBLISH
SEQUENCE:1776650961
BEGIN:VEVENT
UID:jazz-concerts.com-1-42074
DTSTAMP:20260420T040921
DTSTART:20261121T190000
DTEND:20261121T210000
SUMMARY:Akio Le & His Trio - My Nat King Cole Story
LOCATION:Kulturscheune Liebenau Liebenau\, Germany
DESCRIPTION:tickets: https://jazz-concerts.com/en/event/42074\n\nAkio Le & His Trio - My Nat King Cole Story\n\n
END:VEVENT
END:VCALENDAR
