BEGIN:VCALENDAR
VERSION:2.0
PRODID:jazz-concerts.com
METHOD:PUBLISH
SEQUENCE:1776619147
BEGIN:VEVENT
UID:jazz-concerts.com-1-42002
DTSTAMP:20260419T191907
DTSTART:20260422T203000
DTEND:20260422T223000
SUMMARY:Grant Stewart Quartet
LOCATION:Bix Jazzclub - Stuttgart Leonhardsplatz 28\, 70182 Stuttgart\, Germany
DESCRIPTION:tickets: https://jazz-concerts.com/en/event/42002\n\nGrant Stewart Quartet\n\n
END:VEVENT
END:VCALENDAR
