BEGIN:VCALENDAR
VERSION:2.0
PRODID:jazz-concerts.com
METHOD:PUBLISH
SEQUENCE:1776619142
BEGIN:VEVENT
UID:jazz-concerts.com-1-41034
DTSTAMP:20260419T191902
DTSTART:20260507T200000
DTEND:20260507T220000
SUMMARY:HR-BigBand & Brandee Younger
LOCATION:hr Sendesaal Bertramstraße 8\, 60320 Frankfurt am Main\, Germany
DESCRIPTION:tickets: https://jazz-concerts.com/en/event/41034\n\nHR-BigBand & Brandee Younger\n\n
END:VEVENT
END:VCALENDAR
