BEGIN:VCALENDAR
VERSION:2.0
PRODID:jazz-concerts.com
METHOD:PUBLISH
SEQUENCE:1776661226
BEGIN:VEVENT
UID:jazz-concerts.com-1-40651
DTSTAMP:20260420T070026
DTSTART:20260420T200000
DTEND:20260420T220000
SUMMARY:Till Brönner Band
LOCATION:Gewandhaus Augustusplatz 8\, 04109 Leipzig\, Germany
DESCRIPTION:tickets: https://jazz-concerts.com/en/event/40651\n\nTill Brönner Band\n\n
END:VEVENT
END:VCALENDAR
