BEGIN:VCALENDAR
VERSION:2.0
PRODID:jazz-concerts.com
METHOD:PUBLISH
SEQUENCE:1776619145
BEGIN:VEVENT
UID:jazz-concerts.com-1-39129
DTSTAMP:20260419T191905
DTSTART:20260428T200000
DTEND:20260428T220000
SUMMARY:Tom Gaebel & his Orchestra
LOCATION:Savoy Theater Graf-Adolf-Straße 47\, 40215 Düsseldorf\, Germany
DESCRIPTION:tickets: https://jazz-concerts.com/en/event/39129\n\nTom Gaebel & his Orchestra\n\n
END:VEVENT
END:VCALENDAR
