BEGIN:VCALENDAR
VERSION:2.0
PRODID:jazz-concerts.com
METHOD:PUBLISH
SEQUENCE:1776623106
BEGIN:VEVENT
UID:jazz-concerts.com-1-37591
DTSTAMP:20260419T202506
DTSTART:20260427T200000
DTEND:20260427T220000
SUMMARY:Max Raabe & Palast Orchester
LOCATION:CongressCentrum Pforzheim CCP Bertha-Benz-Platz 1\, 75172 Pforzheim\, Germany
DESCRIPTION:tickets: https://jazz-concerts.com/en/event/37591\n\nMax Raabe & Palast Orchester\n\n
END:VEVENT
END:VCALENDAR
