BEGIN:VCALENDAR
VERSION:2.0
PRODID:jazz-concerts.com
METHOD:PUBLISH
SEQUENCE:1776631215
BEGIN:VEVENT
UID:jazz-concerts.com-8-1178
DTSTAMP:20260419T224015
DTSTART:20260802T000000
DTEND:20260809T000000
SUMMARY:Stage de Jazz
LOCATION:Gaume Jazz Festival Rue Camille Joset 1C\, 6730 Tintigny\, Belgien
DESCRIPTION:Info: https://jazz-concerts.com/de/workshop/1178\nWebseite: https://www.gaume-jazz.com/stages/\n\nStage de Jazz\n\n
END:VEVENT
END:VCALENDAR
