BEGIN:VCALENDAR
VERSION:2.0
PRODID:jazz-concerts.com
METHOD:PUBLISH
SEQUENCE:1776631215
BEGIN:VEVENT
UID:jazz-concerts.com-8-1175
DTSTAMP:20260419T224015
DTSTART:20260705T000000
DTEND:20260710T000000
SUMMARY:Stage 2026
LOCATION: Jodoigne\, Belgien
DESCRIPTION:Info: https://jazz-concerts.com/de/workshop/1175\nWebseite: https://summerproductions.be\n\nStage 2026\n\n
END:VEVENT
END:VCALENDAR
