BEGIN:VCALENDAR
VERSION:2.0
PRODID:jazz-concerts.com
METHOD:PUBLISH
SEQUENCE:1776771891
BEGIN:VEVENT
UID:jazz-concerts.com-8-1195
DTSTAMP:20260421T134451
DTSTART:20260724T000000
DTEND:20260731T000000
SUMMARY:Jazztulln
LOCATION: Tulln an der Donau\, Österreich
DESCRIPTION:Info: https://jazz-concerts.com/de/workshop/1195\nWebseite: https://www.kunstwerkstatt.at/wp/?p=14989\n\nJazztulln\n\n
END:VEVENT
END:VCALENDAR
