BEGIN:VCALENDAR
VERSION:2.0
PRODID:jazz-concerts.com
METHOD:PUBLISH
SEQUENCE:1776771891
BEGIN:VEVENT
UID:jazz-concerts.com-8-1193
DTSTAMP:20260421T134451
DTSTART:20260713T000000
DTEND:20260718T000000
SUMMARY:Internationaler Jazz Workshop
LOCATION: Poysdorf\, Österreich
DESCRIPTION:Info: https://jazz-concerts.com/de/workshop/1193\nWebseite: https://www.jazzandwine.at/jazz-workshop/\n\nInternationaler Jazz Workshop\n\n
END:VEVENT
END:VCALENDAR
