BEGIN:VCALENDAR
VERSION:2.0
PRODID:jazz-concerts.com
METHOD:PUBLISH
SEQUENCE:1776635252
BEGIN:VEVENT
UID:jazz-concerts.com-8-1137
DTSTAMP:20260419T234732
DTSTART:20261009T000000
DTEND:20261011T000000
SUMMARY:Improvisation und Jazz für Streicher
LOCATION:Kolping-Bildungsstätte Coesfeld GmbH Gerlever Weg 1\, 48653 Coesfeld\, Deutschland
DESCRIPTION:Info: https://jazz-concerts.com/de/workshop/1137\nWebseite: https://www.kolping-bildungsstaette-coesfeld.de/kbc/veranstaltungen/termine/Musik-improvisation-und-jazz-fuer-streicher-2026-10.php\n\nImprovisation und Jazz für Streicher\n\n
END:VEVENT
END:VCALENDAR
