BEGIN:VCALENDAR
VERSION:2.0
PRODID:jazz-concerts.com
METHOD:PUBLISH
SEQUENCE:1776637305
BEGIN:VEVENT
UID:jazz-concerts.com-8-1186
DTSTAMP:20260420T002145
DTSTART:20260705T000000
DTEND:20260711T000000
SUMMARY:Guit Arosa Wochen-Camp
LOCATION: Arosa\, Schweiz
DESCRIPTION:Info: https://jazz-concerts.com/de/workshop/1186\nWebseite: https://www.guitarosa.ch\n\nGuit Arosa Wochen-Camp\n\n
END:VEVENT
END:VCALENDAR
