BEGIN:VCALENDAR
VERSION:2.0
PRODID:jazz-concerts.com
METHOD:PUBLISH
SEQUENCE:1776643554
BEGIN:VEVENT
UID:jazz-concerts.com-8-1185
DTSTAMP:20260420T020554
DTSTART:20260703T000000
DTEND:20260705T000000
SUMMARY:Guit Arosa BlitzCamp
LOCATION: Arosa\, Schweiz
DESCRIPTION:Info: https://jazz-concerts.com/de/workshop/1185\nWebseite: https://www.guitarosa.ch\n\nGuit Arosa BlitzCamp\n\n
END:VEVENT
END:VCALENDAR
