BEGIN:VCALENDAR
VERSION:2.0
PRODID:jazz-concerts.com
METHOD:PUBLISH
SEQUENCE:1776627101
BEGIN:VEVENT
UID:jazz-concerts.com-8-1134
DTSTAMP:20260419T213141
DTSTART:20260522T000000
DTEND:20260525T000000
SUMMARY:Big-Band-Workshop
LOCATION:Kolping-Bildungsstätte Coesfeld GmbH Gerlever Weg 1\, 48653 Coesfeld\, Deutschland
DESCRIPTION:Info: https://jazz-concerts.com/de/workshop/1134\nWebseite: https://www.kolping-bildungsstaette-coesfeld.de/kbc/veranstaltungen/termine/Musik-Big-Band-Workshop-2026-05.php\n\nBig-Band-Workshop\nDieser Kurs bietet engagierten und lernwilligen AmateurmusikerInnen Gelegenheit\, in einer professionell gecoachten Projekt-Big Band zu spielen. Unter der Leitung eines erfahrenen Mentorenteams wird ein Programm von 8 – 10 Stücken aus verschiedenen stilistischen Bereichen des Big Band Jazz erarbeitet\, das am Pfingstmontag in einem Matineekonzert aufgeführt wird.
In gründlichen Satz- und Tuttiproben werden wichtige Themen wie gruppendienliches Zusammenspiel\, Stilistik und Artikulation\, Intonation\, Dynamik\, Improvisationstechnik und die Entwicklung eines gemeinsamen Bandsounds behandelt. Nach den langen Probentagen kommt auch der gesellige Tagesabschluß nicht zu kurz.
Voraussetzung zum Mitmachen: Du spielst ein Bigband-Instrument\, hast gute Notenkenntnisse auf deinem Instrument und Erfahrung im Ensemblespiel. Wenn du nicht sicher bist\, oder Fragen hast\, melde dich einfach : musik@bildungsstaette.kolping-ms.de\n
END:VEVENT
END:VCALENDAR
