BEGIN:VCALENDAR
VERSION:2.0
PRODID:jazz-concerts.com
METHOD:PUBLISH
SEQUENCE:1776660351
BEGIN:VEVENT
UID:jazz-concerts.com-4-602
DTSTAMP:20260420T064551
DTSTART:20260306T000000
DTEND:20260315T000000
SUMMARY:Klezmer Festival Fürth
LOCATION:
DESCRIPTION:Klezmer Festival Fürth\n\n
END:VEVENT
END:VCALENDAR
