BEGIN:VCALENDAR
VERSION:2.0
PRODID:jazz-concerts.com
METHOD:PUBLISH
SEQUENCE:1776612868
BEGIN:VEVENT
UID:jazz-concerts.com-4-412
DTSTAMP:20260419T173428
DTSTART:20260422T000000
DTEND:20260425T000000
SUMMARY:Jazzahead
LOCATION:
DESCRIPTION:Jazzahead\n\n
END:VEVENT
END:VCALENDAR
