BEGIN:VCALENDAR
VERSION:2.0
PRODID:jazz-concerts.com
METHOD:PUBLISH
SEQUENCE:1776762611
BEGIN:VEVENT
UID:jazz-concerts.com-4-1125
DTSTAMP:20260421T111011
DTSTART:20260625T000000
DTEND:20260628T000000
SUMMARY:Django Reinhardt Festival
LOCATION:
DESCRIPTION:Django Reinhardt Festival\n\n
END:VEVENT
END:VCALENDAR
