BEGIN:VCALENDAR
VERSION:2.0
PRODID:jazz-concerts.com
METHOD:PUBLISH
SEQUENCE:1777164771
BEGIN:VEVENT
UID:jazz-concerts.com-1-43678
DTSTAMP:20260426T025251
DTSTART:20260531T180000
DTEND:20260531T200000
SUMMARY:Young Lions Simone Alessandrini + 9PM
LOCATION:Casa del Jazz Viale di Porta Ardeatina 55\, 00154 Roma\, Italien
DESCRIPTION:Tickets / Eintrittskarten: https://jazz-concerts.com/de/event/43678\n\nYoung Lions Simone Alessandrini + 9PM\n\n
END:VEVENT
END:VCALENDAR
