BEGIN:VCALENDAR
VERSION:2.0
PRODID:jazz-concerts.com
METHOD:PUBLISH
SEQUENCE:1777164728
BEGIN:VEVENT
UID:jazz-concerts.com-1-43677
DTSTAMP:20260426T025208
DTSTART:20260530T193000
DTEND:20260530T213000
SUMMARY:Italian Stars Elisabetta Antonini quarte
LOCATION:Casa del Jazz Viale di Porta Ardeatina 55\, 00154 Roma\, Italien
DESCRIPTION:Tickets / Eintrittskarten: https://jazz-concerts.com/de/event/43677\n\nItalian Stars Elisabetta Antonini quarte\n\n
END:VEVENT
END:VCALENDAR
