BEGIN:VCALENDAR
VERSION:2.0
PRODID:jazz-concerts.com
METHOD:PUBLISH
SEQUENCE:1777153205
BEGIN:VEVENT
UID:jazz-concerts.com-1-43675
DTSTAMP:20260425T234005
DTSTART:20260529T193000
DTEND:20260529T213000
SUMMARY:Young Lions Simone Sansonetti
LOCATION:Casa del Jazz Viale di Porta Ardeatina 55\, 00154 Roma\, Italien
DESCRIPTION:Tickets / Eintrittskarten: https://jazz-concerts.com/de/event/43675\n\nYoung Lions Simone Sansonetti\n\n
END:VEVENT
END:VCALENDAR
