BEGIN:VCALENDAR
VERSION:2.0
PRODID:jazz-concerts.com
METHOD:PUBLISH
SEQUENCE:1777153651
BEGIN:VEVENT
UID:jazz-concerts.com-1-43673
DTSTAMP:20260425T234731
DTSTART:20260524T180000
DTEND:20260524T200000
SUMMARY:Roberto Tarenzi - Solo Piano
LOCATION:Casa del Jazz Viale di Porta Ardeatina 55\, 00154 Roma\, Italien
DESCRIPTION:Tickets / Eintrittskarten: https://jazz-concerts.com/de/event/43673\n\nRoberto Tarenzi - Solo Piano\n\n
END:VEVENT
END:VCALENDAR
