BEGIN:VCALENDAR
VERSION:2.0
PRODID:jazz-concerts.com
METHOD:PUBLISH
SEQUENCE:1777153651
BEGIN:VEVENT
UID:jazz-concerts.com-1-43665
DTSTAMP:20260425T234731
DTSTART:20260522T193000
DTEND:20260522T213000
SUMMARY:Casa del Jazz Orchestra\, Benny Goodman
LOCATION:Casa del Jazz Viale di Porta Ardeatina 55\, 00154 Roma\, Italien
DESCRIPTION:Tickets / Eintrittskarten: https://jazz-concerts.com/de/event/43665\n\nCasa del Jazz Orchestra\, Benny Goodman\n\n
END:VEVENT
END:VCALENDAR
