BEGIN:VCALENDAR
VERSION:2.0
PRODID:jazz-concerts.com
METHOD:PUBLISH
SEQUENCE:1777153666
BEGIN:VEVENT
UID:jazz-concerts.com-1-43663
DTSTAMP:20260425T234746
DTSTART:20260517T180000
DTEND:20260517T200000
SUMMARY:Young Lions-Alessandra Diodati-Meeting
LOCATION:Casa del Jazz Viale di Porta Ardeatina 55\, 00154 Roma\, Italien
DESCRIPTION:Tickets / Eintrittskarten: https://jazz-concerts.com/de/event/43663\n\nYoung Lions-Alessandra Diodati-Meeting\n\n
END:VEVENT
END:VCALENDAR
