BEGIN:VCALENDAR
VERSION:2.0
PRODID:jazz-concerts.com
METHOD:PUBLISH
SEQUENCE:1777153205
BEGIN:VEVENT
UID:jazz-concerts.com-1-43661
DTSTAMP:20260425T234005
DTSTART:20260516T200000
DTEND:20260516T220000
SUMMARY:Old and new masters Mbizo Quintet
LOCATION:Casa del Jazz Viale di Porta Ardeatina 55\, 00154 Roma\, Italien
DESCRIPTION:Tickets / Eintrittskarten: https://jazz-concerts.com/de/event/43661\n\nOld and new masters Mbizo Quintet\n\n
END:VEVENT
END:VCALENDAR
