BEGIN:VCALENDAR
VERSION:2.0
PRODID:jazz-concerts.com
METHOD:PUBLISH
SEQUENCE:1777153649
BEGIN:VEVENT
UID:jazz-concerts.com-1-43659
DTSTAMP:20260425T234729
DTSTART:20260515T193000
DTEND:20260515T213000
SUMMARY:Old and new masters Giancarlo Maurino
LOCATION:Casa del Jazz Viale di Porta Ardeatina 55\, 00154 Roma\, Italien
DESCRIPTION:Tickets / Eintrittskarten: https://jazz-concerts.com/de/event/43659\n\nOld and new masters Giancarlo Maurino\n\n
END:VEVENT
END:VCALENDAR
