BEGIN:VCALENDAR
VERSION:2.0
PRODID:jazz-concerts.com
METHOD:PUBLISH
SEQUENCE:1777153665
BEGIN:VEVENT
UID:jazz-concerts.com-1-43658
DTSTAMP:20260425T234745
DTSTART:20260510T180000
DTEND:20260510T200000
SUMMARY:Italian Stars J. GIROTTO “Escenas en Solo”
LOCATION:Casa del Jazz Viale di Porta Ardeatina 55\, 00154 Roma\, Italien
DESCRIPTION:Tickets / Eintrittskarten: https://jazz-concerts.com/de/event/43658\n\nItalian Stars J. GIROTTO “Escenas en Solo”\n\n
END:VEVENT
END:VCALENDAR
