BEGIN:VCALENDAR
VERSION:2.0
PRODID:jazz-concerts.com
METHOD:PUBLISH
SEQUENCE:1777153220
BEGIN:VEVENT
UID:jazz-concerts.com-1-43656
DTSTAMP:20260425T234020
DTSTART:20260509T193000
DTEND:20260509T213000
SUMMARY:Italian Stars J.Girotto - J.P.Como
LOCATION:Casa del Jazz Viale di Porta Ardeatina 55\, 00154 Roma\, Italien
DESCRIPTION:Tickets / Eintrittskarten: https://jazz-concerts.com/de/event/43656\n\nItalian Stars J.Girotto - J.P.Como\n\n
END:VEVENT
END:VCALENDAR
