BEGIN:VCALENDAR
VERSION:2.0
PRODID:jazz-concerts.com
METHOD:PUBLISH
SEQUENCE:1777153650
BEGIN:VEVENT
UID:jazz-concerts.com-1-43654
DTSTAMP:20260425T234730
DTSTART:20260508T200000
DTEND:20260508T220000
SUMMARY:G.Trovesi e ONJGT diretta da P.Damiani
LOCATION:Teatro Studio Borgna Via Pietro de Coubertin\, 00196 Roma\, Italien
DESCRIPTION:Tickets / Eintrittskarten: https://jazz-concerts.com/de/event/43654\n\nG.Trovesi e ONJGT diretta da P.Damiani\n\n
END:VEVENT
END:VCALENDAR
