BEGIN:VCALENDAR
VERSION:2.0
PRODID:jazz-concerts.com
METHOD:PUBLISH
SEQUENCE:1777153665
BEGIN:VEVENT
UID:jazz-concerts.com-1-43653
DTSTAMP:20260425T234745
DTSTART:20260508T193000
DTEND:20260508T213000
SUMMARY:Italian Stars J. GIROTTO “New Directions Quartet”
LOCATION:Casa del Jazz Viale di Porta Ardeatina 55\, 00154 Roma\, Italien
DESCRIPTION:Tickets / Eintrittskarten: https://jazz-concerts.com/de/event/43653\n\nItalian Stars J. GIROTTO “New Directions Quartet”\n\n
END:VEVENT
END:VCALENDAR
